BEGIN:VCALENDAR
VERSION:2.0
PRODID:-//Plone.org//NONSGML plone.app.event//EN
X-WR-TIMEZONE:Europe/Berlin
BEGIN:VEVENT
SUMMARY:Vernissage: Mensch-Wasser-Interaktion
DTSTART;TZID=Europe/Berlin:20251210T183000
DTEND;TZID=Europe/Berlin:20251210T200000
DTSTAMP:20260424T052111Z
UID:455d74db56e84b22bd8a96d7ed4abdde@www.ifb.uni-bonn.de
CREATED:20251022T072245Z
DESCRIPTION:Im Rahmen einer Exkursion nach Frankreich im September 2025 do
 kumentierten Geografie-Masterstudierende Ihre Eindrücke mit wasserfesten 
 Analogkameras. Ziel war es\, unterschiedliche Blickwinkel auf die Exkursio
 nsinhalte zu zeigen und diese kreativ und anschaulich aufzubereiten. Vier 
 Hauptthemen standen im Fokus:\n- Mensch und hydrolische Extreme\n- Mensch 
 und Küste\n- Mensch und Wasserressourcen\n- Mensch und (Wasser-)Landschaf
 t\n\nDarüber hinaus werden vier Kurzreportagen präsentiert\, die zu dies
 en Themen erarbeitet wurden.\n\nNach dem Screening und einem Gespräch mit
  den Studierenden wird die Ausstellung im französischen Stil – bei eine
 m Glas Wein – feierlich eröffnet.\nWir freuen uns auf Sie!
LAST-MODIFIED:20251031T095453Z
URL:https://www.ifb.uni-bonn.de/kultur/veranstaltungen/mensch-wasser-inter
 aktion
END:VEVENT
BEGIN:VTIMEZONE
TZID:Europe/Berlin
X-LIC-LOCATION:Europe/Berlin
BEGIN:STANDARD
DTSTART:20251026T020000
TZNAME:CET
TZOFFSETFROM:+0200
TZOFFSETTO:+0100
END:STANDARD
END:VTIMEZONE
END:VCALENDAR
